BEGIN:VCALENDAR
VERSION:2.0
PRODID:icalendar-ruby
CALSCALE:GREGORIAN
METHOD:PUBLISH
BEGIN:VEVENT
DTSTAMP:20260424T040048Z
UID:15-745703@alumcreekfriendschurch.org
DTSTART:20260930T230000Z
DTEND:20261001T003000Z
CLASS:PUBLIC
CREATED:20260423T224457
DESCRIPTION:Join us for Adult Bible Study led by Pastor Brad Duncan.
LAST-MODIFIED:20260423T224457
LOCATION:Alum Creek Friends Church - Sanctuary 
SUMMARY:Adult Bible Study
URL;VALUE=URI:https://www.alumcreekfriendschurch.org/events/adult-bible-stu
 dy/2026-09-30
ATTACH;FILENAME=F35CW.jpg;FMTTYPE=image/jpeg:https://dq5pwpg1q8ru0.cloudfro
 nt.net/2024/05/05/02/35/54/dcb10988-aa07-4536-96b1-da9d1e591050/F35CW.jpg
END:VEVENT
END:VCALENDAR
