BEGIN:VCALENDAR
VERSION:2.0
PRODID:icalendar-ruby
CALSCALE:GREGORIAN
METHOD:PUBLISH
BEGIN:VEVENT
DTSTAMP:20260424T042337Z
UID:19-745830@alumcreekfriendschurch.org
DTSTART:20260920T130000Z
DTEND:20260920T134500Z
CLASS:PUBLIC
CREATED:20260423T224457
DESCRIPTION:“The Great Disappearance: How To Be Rapture Ready” (Adult) 
 - Classroom behind the Library - Led by Craig Wallace \nGolden Friends (
 Senior Adult) - Upstairs Classroom - Led by Pastor Jim Brantingham\n“An
 swers in Genesis – An Apologetics Study” (Adult) - Fellowship Hall - 
 Led by Caleb &amp\; Lauretta Duncan\nYoung Friends (Children) – Downsta
 irs Classrooms - Nursery\, Pre-K-1\, Grades 2-4 and Grades 5-9 
LAST-MODIFIED:20260423T224457
LOCATION:Alum Creek Friends Church 
SUMMARY:Sunday School
URL;VALUE=URI:https://www.alumcreekfriendschurch.org/events/sunday-school/2
 026-09-20
ATTACH;FILENAME=DSC_0011-editedsmaller.jpg;FMTTYPE=image/jpeg:https://dq5pw
 pg1q8ru0.cloudfront.net/2024/05/18/13/22/58/5061f3f1-ce79-4abc-beef-abd8c3
 33f3d7/DSC_0011-editedsmaller.jpg
END:VEVENT
END:VCALENDAR
