BEGIN:VCALENDAR
VERSION:2.0
PRODID:icalendar-ruby
CALSCALE:GREGORIAN
METHOD:PUBLISH
BEGIN:VEVENT
DTSTAMP:20260426T025956Z
UID:38-753078@alumcreekfriendschurch.org
DTSTART:20260920T210000Z
DTEND:20260920T230000Z
CLASS:PUBLIC
CREATED:20260425T212927
DESCRIPTION:Youth Group is open to all Middle School and High School studen
 ts. It is a time dedicated to helping equip our young people to live out a
 nd defend their faith\, while promoting fellowship and fun! \nLed by Past
 or Nick Eanes\nSundays from 5-7 pm. \nFor more information\, please visit
  our Youth Group Page
LAST-MODIFIED:20260425T212927
LOCATION:Alum Creek Friends Church
SUMMARY:Youth Group
URL;VALUE=URI:https://www.alumcreekfriendschurch.org/events/youth-group--38
 /2026-09-20
ATTACH;FILENAME=The-Case-for-Christ1-1024x1024.jpg;FMTTYPE=image/jpeg:https
 ://dq5pwpg1q8ru0.cloudfront.net/2026/03/27/14/16/30/bf69268c-7960-4bc5-8e9
 d-1a99a27a6047/The-Case-for-Christ1-1024x1024.jpg
END:VEVENT
END:VCALENDAR
